BEGIN:VCALENDAR
VERSION:2.0
PRODID:icalendar-ruby
CALSCALE:GREGORIAN
METHOD:PUBLISH
BEGIN:VEVENT
DTSTAMP:20260419T144021Z
UID:41-1381182@runnymedechurch.org
DTSTART:20260509T130000Z
DTEND:20260509T180000Z
CLASS:PUBLIC
CREATED:20260413T114220
DESCRIPTION:Join us for the Spring Work Bee on May 9th as we tackle various
  projects in and around the church building. Feel free to pop by for an ho
 ur or the whole day!\nContact us to confirm what times you're able to hel
 p out\, or sign up on the sheet on the back table in the sanctuary.
LAST-MODIFIED:20260413T114220
LOCATION:60 Colbeck St
SUMMARY:Spring Work Bee
URL;VALUE=URI:https://www.runnymedechurch.org/events/spring-work-bee--41/20
 26-05-09
ATTACH;FILENAME=sandie-clarke-q13Zq1Jufks-unsplash.jpg;FMTTYPE=image/jpeg:h
 ttps://dq5pwpg1q8ru0.cloudfront.net/2024/03/26/16/21/35/0b842b4b-d42d-4192
 -a159-7dfb11b25c4f/sandie-clarke-q13Zq1Jufks-unsplash.jpg
ATTACH;FILENAME=greg-shield-kAc0En1s1h8-unsplash.jpg;FMTTYPE=image/jpeg:htt
 ps://dq5pwpg1q8ru0.cloudfront.net/2024/09/17/18/09/35/1251dc52-d659-4a86-b
 af2-30494e0b616e/greg-shield-kAc0En1s1h8-unsplash.jpg
END:VEVENT
END:VCALENDAR
